BEGIN:VCALENDAR
VERSION:2.0
PRODID:-//Tennis Abteilung - TSV Höfingen 1902 e.V. - ECPv6.15.20//NONSGML v1.0//EN
CALSCALE:GREGORIAN
METHOD:PUBLISH
X-WR-CALNAME:Tennis Abteilung - TSV Höfingen 1902 e.V.
X-ORIGINAL-URL:https://www.tennis-hoefingen.de
X-WR-CALDESC:Veranstaltungen für Tennis Abteilung - TSV Höfingen 1902 e.V.
REFRESH-INTERVAL;VALUE=DURATION:PT1H
X-Robots-Tag:noindex
X-PUBLISHED-TTL:PT1H
BEGIN:VTIMEZONE
TZID:Europe/Berlin
BEGIN:DAYLIGHT
TZOFFSETFROM:+0100
TZOFFSETTO:+0200
TZNAME:CEST
DTSTART:20250330T010000
END:DAYLIGHT
BEGIN:STANDARD
TZOFFSETFROM:+0200
TZOFFSETTO:+0100
TZNAME:CET
DTSTART:20251026T010000
END:STANDARD
BEGIN:DAYLIGHT
TZOFFSETFROM:+0100
TZOFFSETTO:+0200
TZNAME:CEST
DTSTART:20260329T010000
END:DAYLIGHT
BEGIN:STANDARD
TZOFFSETFROM:+0200
TZOFFSETTO:+0100
TZNAME:CET
DTSTART:20261025T010000
END:STANDARD
BEGIN:DAYLIGHT
TZOFFSETFROM:+0100
TZOFFSETTO:+0200
TZNAME:CEST
DTSTART:20270328T010000
END:DAYLIGHT
BEGIN:STANDARD
TZOFFSETFROM:+0200
TZOFFSETTO:+0100
TZNAME:CET
DTSTART:20271031T010000
END:STANDARD
END:VTIMEZONE
BEGIN:VEVENT
DTSTART;TZID=Europe/Berlin:20260501T120000
DTEND;TZID=Europe/Berlin:20260501T220000
DTSTAMP:20260422T130447
CREATED:20260414T063555Z
LAST-MODIFIED:20260414T063632Z
UID:4579-1777636800-1777672800@www.tennis-hoefingen.de
SUMMARY:50. Jubiläum der Tennisabteilung Höfingen mit Saisoneröffnung
DESCRIPTION:Liebe Mitglieder der Tennisabteilung\, \n\n\n\nwir laden alle Mitglieder\, Tennisinteressierte sowie Angehörige herzlich zu unserer großen Jubiläumsfeier mit Saisoneröffnung am \n\n\n\nWann? Am 1. Mai 2025 Beginn: ab 12:00 UhrWo: Tennisanlage Höfingen \n\n\n\nFreut euch auf unser Jubiläumsprogramm mit Sektempfang\, dem beliebten Bändelesturnier für Groß und Klein sowie dem Besuch von Oberbürgermeister Tobias Degode. Für das leibliche Wohl ist mit Leckerem vom Grill bestens gesorgt und auch unsere Bar ist geöffnet. Ein besonderes Highlight erwartet euch am Abend mit Live-Musik der „Motorcity Strikers“. \n\n\n\nKommt vorbei und feiert mit uns – die Veranstaltung ist öffentlich! Anmeldungen sind bis zum 19. April für Mitglieder über courtbooking möglich\, um die Planung zu erleichtern. Auch Nichtmitglieder sind herzlich eingeladen\, am Bändelesturnier teilzunehmen. Fragen oder Anmeldungen gerne per Mail an festausschuss@tennis-hoefingen.de. \n\n\n\nWir freuen uns auf zahlreiche Gäste und einen festlichen Auftakt in die neue Tennissaison! \n\n\n\nAnne Petri & Sandra SchnetzerFestausschuss Tennisabteilung Höfingen
URL:https://www.tennis-hoefingen.de/veranstaltung/jubilaumsfeier/
CATEGORIES:Saisoneröffnung
ATTACH;FMTTYPE=image/jpeg:https://www.tennis-hoefingen.de/wp-content/uploads/2025/04/IMG-20260412-WA0083-e1776147564327.jpg
END:VEVENT
END:VCALENDAR